BEGIN:VCALENDAR
VERSION:2.0
CALSCALE:GREGORIAN
METHOD:PUBLISH
PRODID://FOOT//49222
BEGIN:VEVENT
DTSTAMP:20260424T051836
VTIMEZONE:America/New_York
DTSTART:20260501T210000Z
DTEND:20260502T010000Z
UID:49222
SUMMARY:FCG First Friday in May
LOCATION:Foothills Craft Guild Office, 100 S. Gay Street, Knoxville, TN, 37902
DESCRIPTION:FCG First Friday in May\n\n05/01/26 05:00 PM EST\n - 05/01/26 09:00 PM EST\Description:\nCome support your fellow guild members at the Guild Office on the First Friday in March.\n\nExhibitors include Holly P. Peck.\n\nSgraffito demonstration by Cara Rose.\n\nShop items from our members.\nView the permanent collection.\nCheck out the photo booth (available for member use).\n\n\n \Location:\nFoothills Craft Guild Office\n100 S. Gay Street\nKnoxville, TN 37902
X-ALT-DESC;FMTTYPE=text/html:FCG First Friday in May<br /><br />05/01/26 05:00 PM EST - 05/01/26 09:00 PM EST<br />Description:<br />Come support your fellow guild members at the Guild Office on the First Friday in March.<br />
<br />
Exhibitors include Holly P. Peck.<br />
<br />
Sgraffito demonstration by Cara Rose.<br />
<br />
Shop items from our members.<br />
View the permanent collection.<br />
Check out the photo booth (available for member use).<br />
<br />
<br />
&nbsp;<br />Location:<br />Foothills Craft Guild Office<br />100 S. Gay Street<br />Knoxville, TN 37902
PRIORITY:3
TRANSP:TRANSPARENT
BEGIN:VALARM
TRIGGER:-PT5M
ACTION:DISPLAY
DESCRIPTION:Reminder
END:VALARM
END:VEVENT
END:VCALENDAR
