BEGIN:VCALENDAR
VERSION:2.0
CALSCALE:GREGORIAN
METHOD:PUBLISH
PRODID://FOOT//49214
BEGIN:VEVENT
DTSTAMP:20260422T102841
VTIMEZONE:America/New_York
DTSTART:20260614T210000Z
DTEND:20260614T230000Z
UID:49214
SUMMARY:ANNUAL MEMBER MEETING
LOCATION:Foothills Craft Guild Office, 100 S. Gay Street #113, Knoxville, TN, 37902
DESCRIPTION:ANNUAL MEMBER MEETING\n\n06/14/26 05:00 PM EST\n - 06/14/26 07:00 PM EST\Description:\nAll Foothills members are invited to join us at the Guild office in the Emporium Building for our annual meeting.\Location:\nFoothills Craft Guild Office\n100 S. Gay Street #113\nKnoxville, TN 37902
X-ALT-DESC;FMTTYPE=text/html:ANNUAL MEMBER MEETING<br /><br />06/14/26 05:00 PM EST - 06/14/26 07:00 PM EST<br />Description:<br />All Foothills members are invited to join us at the Guild office in the Emporium Building for our annual meeting.<br />Location:<br />Foothills Craft Guild Office<br />100 S. Gay Street #113<br />Knoxville, TN 37902
PRIORITY:3
TRANSP:TRANSPARENT
BEGIN:VALARM
TRIGGER:-PT5M
ACTION:DISPLAY
DESCRIPTION:Reminder
END:VALARM
END:VEVENT
END:VCALENDAR
