BEGIN:VCALENDAR
VERSION:2.0
CALSCALE:GREGORIAN
METHOD:PUBLISH
PRODID://FOOT//48865
BEGIN:VEVENT
DTSTAMP:20260422T064210
VTIMEZONE:America/New_York
DTSTART:20260306T220000Z
DTEND:20260307T020000Z
UID:48865
SUMMARY:FCG First Friday in March
LOCATION:Foothills Craft Guild Office, 100 S. Gay Street, Knoxville, TN, 37902
DESCRIPTION:FCG First Friday in March\n\n03/06/26 05:00 PM EST\n - 03/06/26 09:00 PM EST\Description:\nCome support your fellow guild members at the Guild Office on the First Friday in March.\n\nExhibitors include Jack Feldmann, Lora Williams, and new member Elizabeth Miller.\n\nShake hands with our new president, Amelia Galvas.\n\nShop items from our members.\nView the permanent collection.\nCheck out the photo booth (available for member use).\n\n\n \Location:\nFoothills Craft Guild Office\n100 S. Gay Street\nKnoxville, TN 37902
X-ALT-DESC;FMTTYPE=text/html:FCG First Friday in March<br /><br />03/06/26 05:00 PM EST - 03/06/26 09:00 PM EST<br />Description:<br />Come support your fellow guild members at the Guild Office on the First Friday in March.<br />
<br />
Exhibitors include Jack Feldmann, Lora Williams, and new member Elizabeth Miller.<br />
<br />
Shake hands with our new president, Amelia Galvas.<br />
<br />
Shop items from our members.<br />
View the permanent collection.<br />
Check out the photo booth (available for member use).<br />
<br />
<br />
&nbsp;<br />Location:<br />Foothills Craft Guild Office<br />100 S. Gay Street<br />Knoxville, TN 37902
PRIORITY:3
TRANSP:TRANSPARENT
BEGIN:VALARM
TRIGGER:-PT5M
ACTION:DISPLAY
DESCRIPTION:Reminder
END:VALARM
END:VEVENT
END:VCALENDAR
